BEGIN:VCALENDAR
VERSION:2.0
PRODID:-//104.9 The Wave - ECPv4.6.26//NONSGML v1.0//EN
CALSCALE:GREGORIAN
METHOD:PUBLISH
X-WR-CALNAME:104.9 The Wave
X-ORIGINAL-URL:https://thewavebathurst.com
X-WR-CALDESC:Events for 104.9 The Wave
BEGIN:VEVENT
DTSTART;TZID=America/Halifax:20260531T120000
DTEND;TZID=America/Halifax:20260531T130000
DTSTAMP:20260425T220957
CREATED:20260413T122746Z
LAST-MODIFIED:20260413T122746Z
UID:1297-1780228800-1780232400@thewavebathurst.com
SUMMARY:Walk for Alzheimer’s
DESCRIPTION:REGISTER today and JOIN us in 2026 for the  IG Wealth Management Walk for Alzheimer’s! \nhttps://support.alzheimer.ca/site/TR?pg=entry&fr_id=5509 \nThanks to your support and commitment\, we’ve raised over $50M to date. These critical funds help us provide and connect people to information\, services and community programs such as counselling\, respite care\, support groups and more for people living with Alzheimer’s and other forms of dementia across Canada. \nToday\, over 750\,000 Canadians live with dementia and that number is expected to rise to 1 million by 2030. We need your continued support to ensure that people living with dementia\, and those who love and care for them\, have the resources they need\, close to home. \nWe hope you’ll join us\, and we will keep you updated with more exciting details in the months to come. We can’t wait to see you in May 2026! More event details to come\, stay tuned! \n\nEvent Details\nDate: Sunday\, May 31\, 2026 \nTime: Registration at 12pm\, Walk at 1pm \nEvent Location: KC Irving Regional Centre \nMap: \nContact: James Mallory \nPhone: 506-268-2810 \nEmail: communications@alzheimernb.ca \n\n
URL:https://thewavebathurst.com/event/walk-for-alzheimers-2/
ATTACH;FMTTYPE=image/jpeg:https://thewavebathurst.com/wp-content/uploads/sites/26/2025/05/woman-1822459_1280.jpg
END:VEVENT
END:VCALENDAR