BEGIN:VCALENDAR
VERSION:2.0
PRODID:-//104.9 The Wave - ECPv4.6.26//NONSGML v1.0//EN
CALSCALE:GREGORIAN
METHOD:PUBLISH
X-WR-CALNAME:104.9 The Wave
X-ORIGINAL-URL:https://thewavebathurst.com
X-WR-CALDESC:Events for 104.9 The Wave
BEGIN:VEVENT
DTSTART;TZID=America/Halifax:20260619T080000
DTEND;TZID=America/Halifax:20260621T170000
DTSTAMP:20260425T234009
CREATED:20260324T121949Z
LAST-MODIFIED:20260324T121949Z
UID:1211-1781856000-1782061200@thewavebathurst.com
SUMMARY:Ribfest
DESCRIPTION:The Rotary Club of Bathurst is happy to announce that the annual Ribfest will be back again for 2026. Dates are June 19\, 20 and 21. Same location as previous years\, next to 13 Barrels Brewing\, between Harbourview Boulevard and Cunard Street in Bathurst. \n
URL:https://thewavebathurst.com/event/ribfest/
ATTACH;FMTTYPE=image/jpeg:https://thewavebathurst.com/wp-content/uploads/sites/26/2026/03/298843737_526746779249457_7958293742013406912_n.jpg
END:VEVENT
END:VCALENDAR