BEGIN:VCALENDAR
VERSION:2.0
PRODID:-//104.9 The Wave - ECPv4.6.26//NONSGML v1.0//EN
CALSCALE:GREGORIAN
METHOD:PUBLISH
X-WR-CALNAME:104.9 The Wave
X-ORIGINAL-URL:https://thewavebathurst.com
X-WR-CALDESC:Events for 104.9 The Wave
BEGIN:VEVENT
DTSTART;TZID=America/Halifax:20250628T110000
DTEND;TZID=America/Halifax:20250628T140000
DTSTAMP:20260422T201727
CREATED:20250623T150603Z
LAST-MODIFIED:20250623T162354Z
UID:495-1751108400-1751119200@thewavebathurst.com
SUMMARY:Passage House BBQ
DESCRIPTION:Giant Tiger Bathurst has partnered with Maison Passage House for the month of June to raise funds for their organization. They’ll be hosting a BBQ event from 11am to 2pm (June 28th). Friendly the Tiger will be making an appearance and handing out Canada Day flags as well as temporary tattoos for the kids. \n
URL:https://thewavebathurst.com/event/passage-house-bbq/
ATTACH;FMTTYPE=image/jpeg:https://thewavebathurst.com/wp-content/uploads/sites/26/2025/06/steak-7921082_1280.jpg
END:VEVENT
END:VCALENDAR