BEGIN:VCALENDAR
VERSION:2.0
PRODID:-//104.9 The Wave - ECPv4.6.26//NONSGML v1.0//EN
CALSCALE:GREGORIAN
METHOD:PUBLISH
X-WR-CALNAME:104.9 The Wave
X-ORIGINAL-URL:https://thewavebathurst.com
X-WR-CALDESC:Events for 104.9 The Wave
BEGIN:VEVENT
DTSTART;VALUE=DATE:20250630
DTEND;VALUE=DATE:20250701
DTSTAMP:20260422T142306
CREATED:20250417T123804Z
LAST-MODIFIED:20250513T164515Z
UID:194-1751241600-1751327999@thewavebathurst.com
SUMMARY:Nepisiguit River
DESCRIPTION:PUBLIC NOTICE FOR PEOPLE USING THE NEPISIGUIT RIVER \nThe Atlantic Salmon Federation\, Nepisiguit Salmon Association\, and Pabineau First Nations wish to advise the public to exercise caution when using the Nepisiguit River near the pumphouse for recreational purposes between May 1 and June 30. \nThe Atlantic Salmon Federation\, the Nepisiguit Salmon Association\, and Pabineau First Nations will be installing a Rotary Screw Trap (or smolt wheel) on the Nepisiguit River to catch Atlantic salmon smolts for assessment purposes. The trap will be deployed near the Pumphouse (47°34’40.0″N 65°39’09.8″W).\nThis device and associated cabling are noticeable by warning signs and safety markers. Individuals are advised to watch out for this device and the upstream overhead cable when using this area\, especially at night or during conditions that reduce visibility. \nFOR MORE INFORMATION CONTACT: Kris Hunter\, Atlantic Salmon Federation khunter@asf.ca 902-870-7210 \n
URL:https://thewavebathurst.com/event/nepisiguit-river/
ATTACH;FMTTYPE=image/png:https://thewavebathurst.com/wp-content/uploads/sites/26/2025/04/images-1.png
END:VEVENT
END:VCALENDAR