BEGIN:VCALENDAR
VERSION:2.0
PRODID:-//104.9 The Wave - ECPv4.6.26//NONSGML v1.0//EN
CALSCALE:GREGORIAN
METHOD:PUBLISH
X-WR-CALNAME:104.9 The Wave
X-ORIGINAL-URL:https://thewavebathurst.com
X-WR-CALDESC:Events for 104.9 The Wave
BEGIN:VEVENT
DTSTART;TZID=America/Halifax:20250629T110000
DTEND;TZID=America/Halifax:20250629T110000
DTSTAMP:20260422T172626
CREATED:20250623T150122Z
LAST-MODIFIED:20250623T162323Z
UID:493-1751194800-1751194800@thewavebathurst.com
SUMMARY:Nash Creek Family Day
DESCRIPTION:The Nash Creek Heritage Site in Nash Creek will be having a Free Family Day on Sunday\, June 29th starting at 11am. Washer toss for Adults and Kids. Fishing pond for Kids. Face painting and Photo Booth…Tickets will be available for Free Hotdogs and drinks. And Free prizes for each kid. Magic Show at 1 pm with Don Bernard. Followed with Citizen of The Year presentation at 2.30. All is Free but Donations are welcome. Hope to see you there. \n
URL:https://thewavebathurst.com/event/nash-creek-family-day/
ATTACH;FMTTYPE=image/png:https://thewavebathurst.com/wp-content/uploads/sites/26/2025/06/Screenshot-2025-06-23-132240.png
END:VEVENT
END:VCALENDAR