BEGIN:VCALENDAR
VERSION:2.0
PRODID:-//104.9 The Wave - ECPv4.6.26//NONSGML v1.0//EN
CALSCALE:GREGORIAN
METHOD:PUBLISH
X-WR-CALNAME:104.9 The Wave
X-ORIGINAL-URL:https://thewavebathurst.com
X-WR-CALDESC:Events for 104.9 The Wave
BEGIN:VEVENT
DTSTART;TZID=America/Halifax:20260423T190000
DTEND;TZID=America/Halifax:20260426T140000
DTSTAMP:20260425T220110
CREATED:20260416T165431Z
LAST-MODIFIED:20260416T165431Z
UID:1309-1776970800-1777212000@thewavebathurst.com
SUMMARY:Mean Girls
DESCRIPTION:BHS Music presents “Mean Girls – High School Version”. Based on the Paramount Pictures film Mean Girls. \nApril 23-25th at 7pm and April 26th at 2pm at the Gwendolyn Kent Auditorium. \nAdults $15\, students $10\, youth $10. \nTickets available from cast members\, Tower Jewellers\, or the BHS Main Office! \nRated PG13 for language and mature content. \n
URL:https://thewavebathurst.com/event/mean-girls/
ATTACH;FMTTYPE=image/png:https://thewavebathurst.com/wp-content/uploads/sites/26/2026/04/Screenshot-2026-04-16-134909.png
END:VEVENT
END:VCALENDAR