BEGIN:VCALENDAR
VERSION:2.0
PRODID:-//104.9 The Wave - ECPv4.6.26//NONSGML v1.0//EN
CALSCALE:GREGORIAN
METHOD:PUBLISH
X-WR-CALNAME:104.9 The Wave
X-ORIGINAL-URL:https://thewavebathurst.com
X-WR-CALDESC:Events for 104.9 The Wave
BEGIN:VEVENT
DTSTART;TZID=America/Halifax:20260506T080000
DTEND;TZID=America/Halifax:20260506T170000
DTSTAMP:20260425T221242
CREATED:20260325T122023Z
LAST-MODIFIED:20260325T122023Z
UID:1246-1778054400-1778086800@thewavebathurst.com
SUMMARY:McHappy Day
DESCRIPTION:McHappy Day® returns on Wednesday\, May 6\, inviting local communities to come together and support Ronald McDonald House® across Canada in making a difference for families with critically sick or injured children. \nHow does McHappy Day make an impact on families in your community? \nMcHappy Day is a one-day fundraiser organized by McDonald’s Canada and its local\, independent franchisees where a portion of proceeds from all food and beverage menu items go to Ronald McDonald House® Canada and other local children’s charities. \nThe funds raised on McHappy Day go directly towards providing essential support to more families staying with Ronald McDonald House across Canada including accommodations\, food\, mental health and wellness support\, and so much more while their child is receiving medical treatment. \n
URL:https://thewavebathurst.com/event/mchappy-day-2/
ATTACH;FMTTYPE=image/png:https://thewavebathurst.com/wp-content/uploads/sites/26/2025/04/mchappy.png
END:VEVENT
END:VCALENDAR