BEGIN:VCALENDAR
VERSION:2.0
PRODID:-//104.9 The Wave - ECPv4.6.26//NONSGML v1.0//EN
CALSCALE:GREGORIAN
METHOD:PUBLISH
X-WR-CALNAME:104.9 The Wave
X-ORIGINAL-URL:https://thewavebathurst.com
X-WR-CALDESC:Events for 104.9 The Wave
BEGIN:VEVENT
DTSTART;TZID=America/Halifax:20260606T100000
DTEND;TZID=America/Halifax:20260606T100000
DTSTAMP:20260425T220355
CREATED:20260324T121742Z
LAST-MODIFIED:20260324T121742Z
UID:1209-1780740000-1780740000@thewavebathurst.com
SUMMARY:Chaleur 5km & 10km
DESCRIPTION:The 10 km Chaleur consists of a 10 km run\, a 5 km run and a 5 km walk. Para-athletes are also invited to participate in the 5 or 10 km. \nCash prizes will be awarded to the top 3 finishers in the 10 km race. \nOnly 550 spots are available for the entire event (5 km and 10 km). \nThe online registration fee is: \n10 km race: $30 (plus ticketing fees)\n5 km run/walk: $30 (plus ticketing fees)\n10 km Para athlete: $30 (plus ticketing fees)\n18 y/o and under\, 10 km race: $20 (plus ticketing fees)\n18 y/o and under\, 5 km run/walk: $20 (plus ticketing fees)\nTo register or for more information\, please click HERE. \n
URL:https://thewavebathurst.com/event/chaleur-5km-10km/
ATTACH;FMTTYPE=image/jpeg:https://thewavebathurst.com/wp-content/uploads/sites/26/2025/05/women-655353_1280.jpg
END:VEVENT
END:VCALENDAR