BEGIN:VCALENDAR
VERSION:2.0
PRODID:-//104.9 The Wave - ECPv4.6.26//NONSGML v1.0//EN
CALSCALE:GREGORIAN
METHOD:PUBLISH
X-WR-CALNAME:104.9 The Wave
X-ORIGINAL-URL:https://thewavebathurst.com
X-WR-CALDESC:Events for 104.9 The Wave
BEGIN:VEVENT
DTSTART;TZID=America/Halifax:20250701T104500
DTEND;TZID=America/Halifax:20250701T163000
DTSTAMP:20260422T202910
CREATED:20250623T162014Z
LAST-MODIFIED:20250623T162014Z
UID:497-1751366700-1751387400@thewavebathurst.com
SUMMARY:Canada Day City of Bathurst
DESCRIPTION:Come celebrate Canada with the City of Bathurst! With live music\, bouncy castles\, face painting\, food trucks! Happening July 1st at our beautiful Coronation Park\, from 10:45 to 4:30. Starting with the opening ceremonies at 10:45\, followed by performances from Roger Savoie & Gizèle\, Peter Boro’s Family Hearts Club Band and Zakoustik. This is a free event\, open to all. In the event of inclement weather\, the event will be moved to the KC Irving Regional Centre. Celebrate Canada! Thanks to the Canadian government for their support of this event! \n
URL:https://thewavebathurst.com/event/canada-day-city-of-bathurst/
ATTACH;FMTTYPE=image/jpeg:https://thewavebathurst.com/wp-content/uploads/sites/26/2025/06/canada-day-5370634_1280.jpg
END:VEVENT
END:VCALENDAR