BEGIN:VCALENDAR
VERSION:2.0
PRODID:-//104.9 The Wave - ECPv4.6.26//NONSGML v1.0//EN
CALSCALE:GREGORIAN
METHOD:PUBLISH
X-WR-CALNAME:104.9 The Wave
X-ORIGINAL-URL:https://thewavebathurst.com
X-WR-CALDESC:Events for 104.9 The Wave
BEGIN:VEVENT
DTSTART;TZID=America/Halifax:20260509T090000
DTEND;TZID=America/Halifax:20260509T150000
DTSTAMP:20260425T215606
CREATED:20260421T155015Z
LAST-MODIFIED:20260421T155015Z
UID:1326-1778317200-1778338800@thewavebathurst.com
SUMMARY:Bathurst Hazardous Waste Cleanup
DESCRIPTION:It’s time to Clean up! For hazardous waste and electronic waste… think of the Chaleur Regional Service Commission. They’re at the KC Irving Center from 9 to 3 this Saturday May 9th. Bring your leftover paint\, waste oil\, cleaners\, and other chemicals\, as well as your old computers\, televisions\, and other devices. It’s a FREE Service and offered to residents of the region by the Chaleur Regional Service Commission \n
URL:https://thewavebathurst.com/event/bathurst-hazardous-waste-cleanup/
ATTACH;FMTTYPE=image/jpeg:https://thewavebathurst.com/wp-content/uploads/sites/26/2026/04/272410400_247926650823552_8144939197453346722_n.jpg
END:VEVENT
END:VCALENDAR